BEGIN:VCALENDAR
VERSION:2.0
PRODID:-//ALIA - Clúster Logístico Aragón - ECPv6.15.18//NONSGML v1.0//EN
CALSCALE:GREGORIAN
METHOD:PUBLISH
X-ORIGINAL-URL:https://aliaragon.es
X-WR-CALDESC:Eventos para ALIA - Clúster Logístico Aragón
REFRESH-INTERVAL;VALUE=DURATION:PT1H
X-Robots-Tag:noindex
X-PUBLISHED-TTL:PT1H
BEGIN:VTIMEZONE
TZID:Europe/Madrid
BEGIN:DAYLIGHT
TZOFFSETFROM:+0100
TZOFFSETTO:+0200
TZNAME:CEST
DTSTART:20250330T010000
END:DAYLIGHT
BEGIN:STANDARD
TZOFFSETFROM:+0200
TZOFFSETTO:+0100
TZNAME:CET
DTSTART:20251026T010000
END:STANDARD
BEGIN:DAYLIGHT
TZOFFSETFROM:+0100
TZOFFSETTO:+0200
TZNAME:CEST
DTSTART:20260329T010000
END:DAYLIGHT
BEGIN:STANDARD
TZOFFSETFROM:+0200
TZOFFSETTO:+0100
TZNAME:CET
DTSTART:20261025T010000
END:STANDARD
BEGIN:DAYLIGHT
TZOFFSETFROM:+0100
TZOFFSETTO:+0200
TZNAME:CEST
DTSTART:20270328T010000
END:DAYLIGHT
BEGIN:STANDARD
TZOFFSETFROM:+0200
TZOFFSETTO:+0100
TZNAME:CET
DTSTART:20271031T010000
END:STANDARD
END:VTIMEZONE
BEGIN:VEVENT
DTSTART;TZID=Europe/Madrid:20260226T090000
DTEND;TZID=Europe/Madrid:20260226T113000
DTSTAMP:20260421T230430
CREATED:20260109T095059Z
LAST-MODIFIED:20260227T093742Z
UID:10000113-1772096400-1772105400@aliaragon.es
SUMMARY:eCMR y documento electrónico de control: preparando el sector para 2026
DESCRIPTION:Una jornada para comprender el nuevo marco legal\,  los plazos de obligatoriedad del eCMR y del documento de control digital en España.  \n\n\n\n\n\n\n\n\n\n\n\nDe la mano de expertos legales y del sector\, analizaremos el calendario normativo\, casos prácticos de cargadores y transportistas\, el impacto en pymes y autónomos y nuevas oportunidades como el adelanto de pagos. Una cita imprescindible para anticiparse a los cambios y adaptarse con éxito. \n\n\n\nHORARIO – PROGRAMA\n\n\n\n9:00 h – Recepción \n\n\n\n9:30 h – Marco legal y calendario obligatorio con Beatriz Val y ángel Modrego \n\n\n\n\nCómo encaja el eCMR en la Ley de Movilidad Sostenible\, el documento de control digital obligatorio en España (2026) y el Reglamento eFTI.\n\n\n\nQué será obligatorio\, para quién y en qué fechas (control document\, eCMR nacional/internacional\, límites de importe\, etc.).\n\n\n\n\n9:50 h –Presentación del Informe con Brais Méndez y Ángel Gil \n\n\n\n10:00 h – eCMR en la práctica: experiencias de cargadores y transportistas – FIELDEAS Y ALIA – con Rodrigo Martín y Ángel Gil \n\n\n\n10:20 h – Cómo integrar una solución de eCMR con las herramientas tecnológicas de las empresas: ERPs\, TMS\, gestores documentales\, etc. – DOCUTEN Y ALIA – con Brais Méndez. Enrique Nader y Alejandro Herráez \n\n\n\n10:40 h – El eCMR como adelanto de pagos de transporte y solución de problemas relacionados con la morosidad – IGARLE  y Clúster Movilidad y Logística Euskadi – con Fran Manzano\, Aurelio Legasa y Joseba Sáenz  \n\n\n\n11:00 h – El reto de la interoperabilidad tecnológica ante 2026 – TRANSPOREON – con Alfredo Noya y Carolina Ciprés \n\n\n\n11:20 h – Café y Networking \n\n\n\nINSCRIPCIONES ABIERTAS AQUÍ \n\n\n\n\n\nORGANIZADORES\n\n\n\n\n\n\n\nLUGAR DEL EVENTO
URL:https://aliaragon.es/evento/ecmr-y-documento-electronico-de-control-preparando-el-sector-para-2026/
CATEGORIES:Febrero 2026
ATTACH;FMTTYPE=image/png:https://aliaragon.es/wp-content/uploads/2026/01/ecmr-2.png
END:VEVENT
END:VCALENDAR