BEGIN:VCALENDAR
VERSION:2.0
PRODID:-//ALIA - Clúster Logístico Aragón - ECPv6.15.18//NONSGML v1.0//EN
CALSCALE:GREGORIAN
METHOD:PUBLISH
X-ORIGINAL-URL:https://aliaragon.es
X-WR-CALDESC:Eventos para ALIA - Clúster Logístico Aragón
REFRESH-INTERVAL;VALUE=DURATION:PT1H
X-Robots-Tag:noindex
X-PUBLISHED-TTL:PT1H
BEGIN:VTIMEZONE
TZID:Europe/Madrid
BEGIN:DAYLIGHT
TZOFFSETFROM:+0100
TZOFFSETTO:+0200
TZNAME:CEST
DTSTART:20220327T010000
END:DAYLIGHT
BEGIN:STANDARD
TZOFFSETFROM:+0200
TZOFFSETTO:+0100
TZNAME:CET
DTSTART:20221030T010000
END:STANDARD
BEGIN:DAYLIGHT
TZOFFSETFROM:+0100
TZOFFSETTO:+0200
TZNAME:CEST
DTSTART:20230326T010000
END:DAYLIGHT
BEGIN:STANDARD
TZOFFSETFROM:+0200
TZOFFSETTO:+0100
TZNAME:CET
DTSTART:20231029T010000
END:STANDARD
BEGIN:DAYLIGHT
TZOFFSETFROM:+0100
TZOFFSETTO:+0200
TZNAME:CEST
DTSTART:20240331T010000
END:DAYLIGHT
BEGIN:STANDARD
TZOFFSETFROM:+0200
TZOFFSETTO:+0100
TZNAME:CET
DTSTART:20241027T010000
END:STANDARD
END:VTIMEZONE
BEGIN:VEVENT
DTSTART;TZID=Europe/Madrid:20230125T180000
DTEND;TZID=Europe/Madrid:20230125T200000
DTSTAMP:20260420T221649
CREATED:20230117T182337Z
LAST-MODIFIED:20230117T184615Z
UID:10000024-1674669600-1674676800@aliaragon.es
SUMMARY:Transporte marítimo mundial - ¿Qué nos espera en 2023?
DESCRIPTION:Los últimos tres años han sido sumamente complicados en todos los eslabones de las cadenas logísticas internacionales.¿Qué tendencias se prevén en 2023? Se analizará la situación del transporte marítimo. ALIA participará en la mesa redonda «Visiones de la situación actual en el transporte marítimo» \n\n\n\nReserva tu plaza\n\n\n\n\nInscripciones\n\n\n\n\n\n\n¿Quién organiza este evento?\n\n\n\n\n\n\n\n\n\n\n\n¿Dónde se celebra este evento?
URL:https://aliaragon.es/evento/transporte-maritimo-mundial-que-nos-espera-en-2023/
LOCATION:Sala Alcarria\, Ibercaja Patio de la Infanta\, C. de San Ignacio de Loyola\, 16\,\, Zaragoza\, Zaragoza\, 50008\, España
CATEGORIES:Enero 2023,Jornada Logística
ATTACH;FMTTYPE=image/png:https://aliaragon.es/wp-content/uploads/2023/01/CARTEL.png
ORGANIZER;CN="Cl%C3%BAster ALIA":MAILTO:info@aliaragon.es
END:VEVENT
END:VCALENDAR